BEGIN:VCALENDAR
VERSION:2.0
PRODID:spatie/icalendar-generator
BEGIN:VTIMEZONE
TZID:UTC
BEGIN:STANDARD
DTSTART:20250725T235318
TZOFFSETFROM:+0000
TZOFFSETTO:+0000
END:STANDARD
END:VTIMEZONE
BEGIN:VEVENT
UID:69e80dee43867
DTSTAMP:20260421T235318Z
SUMMARY:Café Colibri - Deutsch sprechen in der Zentralbibliothek 
DTSTART:20260528T150000Z
DTEND:20260528T150000Z
END:VEVENT
END:VCALENDAR