BEGIN:VCALENDAR
VERSION:2.0
PRODID:spatie/icalendar-generator
BEGIN:VTIMEZONE
TZID:UTC
BEGIN:STANDARD
DTSTART:20250725T235345
TZOFFSETFROM:+0000
TZOFFSETTO:+0000
END:STANDARD
END:VTIMEZONE
BEGIN:VEVENT
UID:69e80e0911d23
DTSTAMP:20260421T235345Z
SUMMARY:Café Colibri - Deutsch sprechen in der Zentralbibliothek 
DTSTART:20260430T150000Z
DTEND:20260430T150000Z
END:VEVENT
END:VCALENDAR