BEGIN:VCALENDAR
VERSION:2.0
PRODID:spatie/icalendar-generator
BEGIN:VTIMEZONE
TZID:UTC
BEGIN:STANDARD
DTSTART:20250723T165454
TZOFFSETFROM:+0000
TZOFFSETTO:+0000
END:STANDARD
END:VTIMEZONE
BEGIN:VEVENT
UID:69e508de260d6
DTSTAMP:20260419T165454Z
SUMMARY:Bald fahr ich am Rhein/StadtSafari - Segway-Erlebnis
DTSTART:20260520T130000Z
DTEND:20260520T150000Z
END:VEVENT
END:VCALENDAR