BEGIN:VCALENDAR
VERSION:2.0
PRODID:spatie/icalendar-generator
BEGIN:VTIMEZONE
TZID:UTC
BEGIN:STANDARD
DTSTART:20250723T121033
TZOFFSETFROM:+0000
TZOFFSETTO:+0000
END:STANDARD
END:VTIMEZONE
BEGIN:VEVENT
UID:69e4c639ab4de
DTSTAMP:20260419T121033Z
SUMMARY:Kreuz und quer durchs Häusermeer - Stadt Safari - Segway-Erlebnis
DTSTART:20260627T103000Z
DTEND:20260627T123000Z
END:VEVENT
END:VCALENDAR