BEGIN:VCALENDAR
VERSION:2.0
PRODID:spatie/icalendar-generator
BEGIN:VTIMEZONE
TZID:UTC
BEGIN:STANDARD
DTSTART:20250723T120934
TZOFFSETFROM:+0000
TZOFFSETTO:+0000
END:STANDARD
END:VTIMEZONE
BEGIN:VEVENT
UID:69e4c5fe9ab7a
DTSTAMP:20260419T120934Z
SUMMARY:Kreuz und quer durchs Häusermeer - Stadt Safari - Segway-Erlebnis
DTSTART:20260621T103000Z
DTEND:20260621T123000Z
END:VEVENT
END:VCALENDAR