BEGIN:VCALENDAR
VERSION:2.0
PRODID:spatie/icalendar-generator
BEGIN:VTIMEZONE
TZID:UTC
BEGIN:STANDARD
DTSTART:20250725T124813
TZOFFSETFROM:+0000
TZOFFSETTO:+0000
END:STANDARD
END:VTIMEZONE
BEGIN:VEVENT
UID:69e7720d42c79
DTSTAMP:20260421T124813Z
SUMMARY:Baris\, Steffen Deux\, Tim Etzel\, Yeliz @ Disco Zwei\, Mannheim
DTSTART:20260425T210000Z
DTEND:20260425T210000Z
END:VEVENT
END:VCALENDAR