BEGIN:VCALENDAR
VERSION:2.0
PRODID:spatie/icalendar-generator
BEGIN:VTIMEZONE
TZID:UTC
BEGIN:STANDARD
DTSTART:20250725T152525
TZOFFSETFROM:+0000
TZOFFSETTO:+0000
END:STANDARD
END:VTIMEZONE
BEGIN:VEVENT
UID:69e796e53e9bd
DTSTAMP:20260421T152525Z
SUMMARY:RUSH(ES)
DTSTART:20260522T180000Z
DTEND:20260522T180000Z
END:VEVENT
END:VCALENDAR