BEGIN:VCALENDAR
VERSION:2.0
PRODID:spatie/icalendar-generator
BEGIN:VTIMEZONE
TZID:UTC
BEGIN:STANDARD
DTSTART:20250725T152525
TZOFFSETFROM:+0000
TZOFFSETTO:+0000
END:STANDARD
END:VTIMEZONE
BEGIN:VEVENT
UID:69e796e5c1ee2
DTSTAMP:20260421T152525Z
SUMMARY:Gaga people
DTSTART:20260511T180000Z
DTEND:20260511T190000Z
END:VEVENT
END:VCALENDAR