BEGIN:VCALENDAR
VERSION:2.0
PRODID:spatie/icalendar-generator
BEGIN:VTIMEZONE
TZID:UTC
BEGIN:STANDARD
DTSTART:20250725T101725
TZOFFSETFROM:+0000
TZOFFSETTO:+0000
END:STANDARD
END:VTIMEZONE
BEGIN:VEVENT
UID:69e74eb5183d4
DTSTAMP:20260421T101725Z
SUMMARY:Führung durch die Ausstellung Christian Brandl \"Versuch\"
DTSTART:20260503T130000Z
DTEND:20260503T130000Z
END:VEVENT
END:VCALENDAR