BEGIN:VCALENDAR
VERSION:2.0
PRODID:spatie/icalendar-generator
BEGIN:VTIMEZONE
TZID:UTC
BEGIN:STANDARD
DTSTART:20250725T095716
TZOFFSETFROM:+0000
TZOFFSETTO:+0000
END:STANDARD
END:VTIMEZONE
BEGIN:VEVENT
UID:69e749fc0694d
DTSTAMP:20260421T095716Z
SUMMARY:Stand & Deliver! 80s Underground\, Wave & Pop
DTSTART:20260501T180000Z
DTEND:20260502T010000Z
END:VEVENT
END:VCALENDAR