BEGIN:VCALENDAR
VERSION:2.0
PRODID:spatie/icalendar-generator
BEGIN:VTIMEZONE
TZID:UTC
BEGIN:STANDARD
DTSTART:20250725T095729
TZOFFSETFROM:+0000
TZOFFSETTO:+0000
END:STANDARD
END:VTIMEZONE
BEGIN:VEVENT
UID:69e74a096a3b4
DTSTAMP:20260421T095729Z
SUMMARY:Tag der Artenvielfalt: Wildbienen
DTSTART:20260613T090000Z
DTEND:20260613T113000Z
END:VEVENT
END:VCALENDAR