BEGIN:VCALENDAR
VERSION:2.0
PRODID:spatie/icalendar-generator
BEGIN:VTIMEZONE
TZID:UTC
BEGIN:STANDARD
DTSTART:20250725T101231
TZOFFSETFROM:+0000
TZOFFSETTO:+0000
END:STANDARD
END:VTIMEZONE
BEGIN:VEVENT
UID:69e74d8f52911
DTSTAMP:20260421T101231Z
SUMMARY:Tag der Artenvielfalt: Fantastische Fischwesen
DTSTART:20260614T113000Z
DTEND:20260614T133000Z
END:VEVENT
END:VCALENDAR