BEGIN:VCALENDAR
VERSION:2.0
PRODID:spatie/icalendar-generator
BEGIN:VTIMEZONE
TZID:UTC
BEGIN:STANDARD
DTSTART:20250725T101221
TZOFFSETFROM:+0000
TZOFFSETTO:+0000
END:STANDARD
END:VTIMEZONE
BEGIN:VEVENT
UID:69e74d85c488a
DTSTAMP:20260421T101221Z
SUMMARY:Spieletest - neue Brettspiele in der Kinder- und Jugendbibliothek
DTSTART:20260711T100000Z
DTEND:20260711T120000Z
END:VEVENT
END:VCALENDAR