BEGIN:VCALENDAR
VERSION:2.0
PRODID:spatie/icalendar-generator
BEGIN:VTIMEZONE
TZID:UTC
BEGIN:STANDARD
DTSTART:20250723T121041
TZOFFSETFROM:+0000
TZOFFSETTO:+0000
END:STANDARD
END:VTIMEZONE
BEGIN:VEVENT
UID:69e4c64156ddb
DTSTAMP:20260419T121041Z
SUMMARY:Künstler:innen in der Alten Sternwarte - Vortrag und Atelierrundga
 ng
DTSTART:20260426T095000Z
DTEND:20260426T120000Z
END:VEVENT
END:VCALENDAR