BEGIN:VCALENDAR
VERSION:2.0
PRODID:spatie/icalendar-generator
BEGIN:VTIMEZONE
TZID:UTC
BEGIN:STANDARD
DTSTART:20250723T121039
TZOFFSETFROM:+0000
TZOFFSETTO:+0000
END:STANDARD
END:VTIMEZONE
BEGIN:VEVENT
UID:69e4c63f49cec
DTSTAMP:20260419T121039Z
SUMMARY:Tag der offenen Tür - Frühlingsfest Waldorfkindergarten Vogelstan
 g e. V.
DTSTART:20260425T080000Z
DTEND:20260425T120000Z
END:VEVENT
END:VCALENDAR