BEGIN:VCALENDAR
VERSION:2.0
PRODID:spatie/icalendar-generator
BEGIN:VTIMEZONE
TZID:UTC
BEGIN:STANDARD
DTSTART:20250723T121040
TZOFFSETFROM:+0000
TZOFFSETTO:+0000
END:STANDARD
END:VTIMEZONE
BEGIN:VEVENT
UID:69e4c640c6f55
DTSTAMP:20260419T121040Z
SUMMARY:Shared Reading
DTSTART:20260423T160000Z
DTEND:20260424T180000Z
END:VEVENT
END:VCALENDAR