BEGIN:VCALENDAR
VERSION:2.0
PRODID:spatie/icalendar-generator
BEGIN:VTIMEZONE
TZID:UTC
BEGIN:STANDARD
DTSTART:20250723T133639
TZOFFSETFROM:+0000
TZOFFSETTO:+0000
END:STANDARD
END:VTIMEZONE
BEGIN:VEVENT
UID:69e4da670bc89
DTSTAMP:20260419T133639Z
SUMMARY:Tag der Artenvielfalt: Eidechsen in Mannheim
DTSTART:20260613T070000Z
DTEND:20260613T093000Z
END:VEVENT
END:VCALENDAR