BEGIN:VCALENDAR
VERSION:2.0
PRODID:spatie/icalendar-generator
BEGIN:VTIMEZONE
TZID:UTC
BEGIN:STANDARD
DTSTART:20250723T134607
TZOFFSETFROM:+0000
TZOFFSETTO:+0000
END:STANDARD
END:VTIMEZONE
BEGIN:VEVENT
UID:69e4dc9f2d259
DTSTAMP:20260419T134607Z
SUMMARY:Tag der Artenvielfalt: Biodiversität – bedrohte Nahrungsquelle f
 ür Tiere und Menschen
DTSTART:20260614T110000Z
DTEND:20260614T120000Z
END:VEVENT
END:VCALENDAR