BEGIN:VCALENDAR
VERSION:2.0
PRODID:spatie/icalendar-generator
BEGIN:VTIMEZONE
TZID:UTC
BEGIN:STANDARD
DTSTART:20250723T150546
TZOFFSETFROM:+0000
TZOFFSETTO:+0000
END:STANDARD
END:VTIMEZONE
BEGIN:VEVENT
UID:69e4ef4ab0da2
DTSTAMP:20260419T150546Z
SUMMARY:Tag der Artenvielfalt: Entdecke die Vielfalt der Schmetterlinge 
DTSTART:20260613T113000Z
DTEND:20260613T130000Z
END:VEVENT
END:VCALENDAR