BEGIN:VCALENDAR
VERSION:2.0
PRODID:spatie/icalendar-generator
BEGIN:VTIMEZONE
TZID:UTC
BEGIN:STANDARD
DTSTART:20250723T150547
TZOFFSETFROM:+0000
TZOFFSETTO:+0000
END:STANDARD
END:VTIMEZONE
BEGIN:VEVENT
UID:69e4ef4b86996
DTSTAMP:20260419T150547Z
SUMMARY:Tag der Artenvielfalt: Leben und wachsen auf der Streuobstwiese
DTSTART:20260613T080000Z
DTEND:20260613T100000Z
END:VEVENT
END:VCALENDAR