BEGIN:VCALENDAR
VERSION:2.0
PRODID:spatie/icalendar-generator
BEGIN:VTIMEZONE
TZID:UTC
BEGIN:STANDARD
DTSTART:20250723T150547
TZOFFSETFROM:+0000
TZOFFSETTO:+0000
END:STANDARD
END:VTIMEZONE
BEGIN:VEVENT
UID:69e4ef4b0c6d4
DTSTAMP:20260419T150547Z
SUMMARY:Tag der Artenvielfalt: Der Natur auf der Spur
DTSTART:20260614T080000Z
DTEND:20260614T110000Z
END:VEVENT
END:VCALENDAR