BEGIN:VCALENDAR
VERSION:2.0
PRODID:spatie/icalendar-generator
BEGIN:VTIMEZONE
TZID:UTC
BEGIN:STANDARD
DTSTART:20250723T133638
TZOFFSETFROM:+0000
TZOFFSETTO:+0000
END:STANDARD
END:VTIMEZONE
BEGIN:VEVENT
UID:69e4da6686dfc
DTSTAMP:20260419T133638Z
SUMMARY:Tag der Artenvielfalt: Der Zauber des August-Bebel-Parks
DTSTART:20260613T120000Z
DTEND:20260613T160000Z
END:VEVENT
END:VCALENDAR