BEGIN:VCALENDAR
VERSION:2.0
PRODID:spatie/icalendar-generator
BEGIN:VTIMEZONE
TZID:UTC
BEGIN:STANDARD
DTSTART:20250723T165324
TZOFFSETFROM:+0000
TZOFFSETTO:+0000
END:STANDARD
END:VTIMEZONE
BEGIN:VEVENT
UID:69e50884ef312
DTSTAMP:20260419T165324Z
SUMMARY:Tag der Artenvielfalt: Im Nachbarschaftshaus Rheinau
DTSTART:20260613T120000Z
DTEND:20260613T160000Z
END:VEVENT
END:VCALENDAR