BEGIN:VCALENDAR
VERSION:2.0
PRODID:spatie/icalendar-generator
BEGIN:VTIMEZONE
TZID:UTC
BEGIN:STANDARD
DTSTART:20250723T165549
TZOFFSETFROM:+0000
TZOFFSETTO:+0000
END:STANDARD
END:VTIMEZONE
BEGIN:VEVENT
UID:69e5091573169
DTSTAMP:20260419T165549Z
SUMMARY:Tag der Artenvielfalt: Auf Safari in den Rheinauen
DTSTART:20260613T130000Z
DTEND:20260613T160000Z
END:VEVENT
END:VCALENDAR