BEGIN:VCALENDAR
VERSION:2.0
PRODID:spatie/icalendar-generator
BEGIN:VTIMEZONE
TZID:UTC
BEGIN:STANDARD
DTSTART:20250723T165654
TZOFFSETFROM:+0000
TZOFFSETTO:+0000
END:STANDARD
END:VTIMEZONE
BEGIN:VEVENT
UID:69e5095628dd2
DTSTAMP:20260419T165654Z
SUMMARY:Tag der Artenvielfalt: Vom Teich zum Ufer\, Lebensräume gestalten 
 mit Wasser und Lehm
DTSTART:20260614T090000Z
DTEND:20260614T150000Z
END:VEVENT
END:VCALENDAR