BEGIN:VCALENDAR
VERSION:2.0
PRODID:spatie/icalendar-generator
BEGIN:VTIMEZONE
TZID:UTC
BEGIN:STANDARD
DTSTART:20250725T095715
TZOFFSETFROM:+0000
TZOFFSETTO:+0000
END:STANDARD
END:VTIMEZONE
BEGIN:VEVENT
UID:69e749fb6ee9a
DTSTAMP:20260421T095715Z
SUMMARY:Tag der Artenvielfalt: GrünWerk öffnet sein Gartentor
DTSTART:20260614T120000Z
DTEND:20260614T150000Z
END:VEVENT
END:VCALENDAR