BEGIN:VCALENDAR
VERSION:2.0
PRODID:spatie/icalendar-generator
BEGIN:VTIMEZONE
TZID:UTC
BEGIN:STANDARD
DTSTART:20250725T101221
TZOFFSETFROM:+0000
TZOFFSETTO:+0000
END:STANDARD
END:VTIMEZONE
BEGIN:VEVENT
UID:69e74d85cbb42
DTSTAMP:20260421T101221Z
SUMMARY:Tag der Artenvielfalt: Heilpflanzen- die Pflanzen mit dem Benefit
DTSTART:20260613T130000Z
DTEND:20260613T143000Z
END:VEVENT
END:VCALENDAR