BEGIN:VCALENDAR
VERSION:2.0
PRODID:spatie/icalendar-generator
BEGIN:VTIMEZONE
TZID:UTC
BEGIN:STANDARD
DTSTART:20250723T165550
TZOFFSETFROM:+0000
TZOFFSETTO:+0000
END:STANDARD
END:VTIMEZONE
BEGIN:VEVENT
UID:69e50916f3878
DTSTAMP:20260419T165550Z
SUMMARY:Tag der Artenvielfalt: Der Lehrgarten im Wandel
DTSTART:20260613T090000Z
DTEND:20260613T103000Z
END:VEVENT
END:VCALENDAR