BEGIN:VCALENDAR
VERSION:2.0
PRODID:spatie/icalendar-generator
BEGIN:VTIMEZONE
TZID:UTC
BEGIN:STANDARD
DTSTART:20250723T165653
TZOFFSETFROM:+0000
TZOFFSETTO:+0000
END:STANDARD
END:VTIMEZONE
BEGIN:VEVENT
UID:69e509552a695
DTSTAMP:20260419T165653Z
SUMMARY:Tag der Artenvielfalt: Naturraum Friedhof - hier kreucht's und fleu
 cht's
DTSTART:20260613T120000Z
DTEND:20260613T140000Z
END:VEVENT
END:VCALENDAR