BEGIN:VCALENDAR
VERSION:2.0
PRODID:spatie/icalendar-generator
BEGIN:VTIMEZONE
TZID:UTC
BEGIN:STANDARD
DTSTART:20250723T165549
TZOFFSETFROM:+0000
TZOFFSETTO:+0000
END:STANDARD
END:VTIMEZONE
BEGIN:VEVENT
UID:69e509155fc80
DTSTAMP:20260419T165549Z
SUMMARY:Tag der Artenvielfalt: Grabstätten als Gärten der Erinnerung - le
 bendig und ökologisch besonders wertvoll!
DTSTART:20260614T110000Z
DTEND:20260614T130000Z
END:VEVENT
END:VCALENDAR