BEGIN:VCALENDAR
VERSION:2.0
PRODID:spatie/icalendar-generator
BEGIN:VTIMEZONE
TZID:UTC
BEGIN:STANDARD
DTSTART:20250723T165652
TZOFFSETFROM:+0000
TZOFFSETTO:+0000
END:STANDARD
END:VTIMEZONE
BEGIN:VEVENT
UID:69e50954a4858
DTSTAMP:20260419T165652Z
SUMMARY:Tag der Artenvielfalt: Abenteuer Tierspuren
DTSTART:20260614T080000Z
DTEND:20260614T110000Z
END:VEVENT
END:VCALENDAR