BEGIN:VCALENDAR
VERSION:2.0
PRODID:spatie/icalendar-generator
BEGIN:VTIMEZONE
TZID:UTC
BEGIN:STANDARD
DTSTART:20250723T165549
TZOFFSETFROM:+0000
TZOFFSETTO:+0000
END:STANDARD
END:VTIMEZONE
BEGIN:VEVENT
UID:69e50915edbe6
DTSTAMP:20260419T165549Z
SUMMARY:Tag der Artenvielfalt: Naturkundlicher Dialog-Rundgang auf dem Klä
 rwerksgelände
DTSTART:20260613T080000Z
DTEND:20260613T100000Z
END:VEVENT
END:VCALENDAR