BEGIN:VCALENDAR
VERSION:2.0
PRODID:spatie/icalendar-generator
BEGIN:VTIMEZONE
TZID:UTC
BEGIN:STANDARD
DTSTART:20250723T165651
TZOFFSETFROM:+0000
TZOFFSETTO:+0000
END:STANDARD
END:VTIMEZONE
BEGIN:VEVENT
UID:69e5095338114
DTSTAMP:20260419T165651Z
SUMMARY:Tag der Artenvielfalt: Pflanzen- und Tierwelt im Dossenwald
DTSTART:20260613T080000Z
DTEND:20260613T100000Z
END:VEVENT
END:VCALENDAR