BEGIN:VCALENDAR
VERSION:2.0
PRODID:spatie/icalendar-generator
BEGIN:VTIMEZONE
TZID:UTC
BEGIN:STANDARD
DTSTART:20250723T183446
TZOFFSETFROM:+0000
TZOFFSETTO:+0000
END:STANDARD
END:VTIMEZONE
BEGIN:VEVENT
UID:69e52046384d9
DTSTAMP:20260419T183446Z
SUMMARY:Öffentliche Führung durch die Stadtgeschichtliche Ausstellung
DTSTART:20261011T130000Z
DTEND:20261011T140000Z
END:VEVENT
END:VCALENDAR