BEGIN:VCALENDAR
VERSION:2.0
PRODID:spatie/icalendar-generator
BEGIN:VTIMEZONE
TZID:UTC
BEGIN:STANDARD
DTSTART:20250723T183445
TZOFFSETFROM:+0000
TZOFFSETTO:+0000
END:STANDARD
END:VTIMEZONE
BEGIN:VEVENT
UID:69e52045b8a57
DTSTAMP:20260419T183445Z
SUMMARY:Salon der Ratlosigkeit
DTSTART:20260422T160000Z
DTEND:20260422T173000Z
END:VEVENT
END:VCALENDAR