BEGIN:VCALENDAR
VERSION:2.0
PRODID:spatie/icalendar-generator
BEGIN:VTIMEZONE
TZID:UTC
BEGIN:STANDARD
DTSTART:20250725T101213
TZOFFSETFROM:+0000
TZOFFSETTO:+0000
END:STANDARD
END:VTIMEZONE
BEGIN:VEVENT
UID:69e74d7d1b113
DTSTAMP:20260421T101213Z
SUMMARY:Tag der Artenvielfalt: Imkerei\, Honig- und Wildbienen
DTSTART:20260613T080000Z
DTEND:20260613T120000Z
END:VEVENT
END:VCALENDAR