BEGIN:VCALENDAR
VERSION:2.0
PRODID:spatie/icalendar-generator
BEGIN:VTIMEZONE
TZID:UTC
BEGIN:STANDARD
DTSTART:20250723T201320
TZOFFSETFROM:+0000
TZOFFSETTO:+0000
END:STANDARD
END:VTIMEZONE
BEGIN:VEVENT
UID:69e53760a761c
DTSTAMP:20260419T201320Z
SUMMARY:Tag der Artenvielfalt: Wunderwelt Fluss
DTSTART:20260614T090000Z
DTEND:20260614T140000Z
END:VEVENT
END:VCALENDAR