BEGIN:VCALENDAR
VERSION:2.0
PRODID:spatie/icalendar-generator
BEGIN:VTIMEZONE
TZID:UTC
BEGIN:STANDARD
DTSTART:20250724T000357
TZOFFSETFROM:+0000
TZOFFSETTO:+0000
END:STANDARD
END:VTIMEZONE
BEGIN:VEVENT
UID:69e56d6da3b8a
DTSTAMP:20260420T000357Z
SUMMARY:Saisonausklang: Spiel\, Spaß und Action im Hallenbad Vogelstang  
DTSTART:20260425T160000Z
DTEND:20260425T215900Z
END:VEVENT
END:VCALENDAR