BEGIN:VCALENDAR
VERSION:2.0
PRODID:spatie/icalendar-generator
BEGIN:VTIMEZONE
TZID:UTC
BEGIN:STANDARD
DTSTART:20250724T000358
TZOFFSETFROM:+0000
TZOFFSETTO:+0000
END:STANDARD
END:VTIMEZONE
BEGIN:VEVENT
UID:69e56d6e2529b
DTSTAMP:20260420T000358Z
SUMMARY:Saisonausklang: Spiel\, Spaß und Action im Hallenbad Vogelstang  
DTSTART:20260424T133000Z
DTEND:20260424T193000Z
END:VEVENT
END:VCALENDAR