BEGIN:VCALENDAR
VERSION:2.0
PRODID:spatie/icalendar-generator
BEGIN:VTIMEZONE
TZID:UTC
BEGIN:STANDARD
DTSTART:20250723T183445
TZOFFSETFROM:+0000
TZOFFSETTO:+0000
END:STANDARD
END:VTIMEZONE
BEGIN:VEVENT
UID:69e5204531147
DTSTAMP:20260419T183445Z
SUMMARY:Tag der Artenvielfalt: Fledermäuse - sind sie wirklich unter uns?
DTSTART:20260612T183000Z
DTEND:20260612T200000Z
END:VEVENT
END:VCALENDAR