BEGIN:VCALENDAR
VERSION:2.0
PRODID:spatie/icalendar-generator
BEGIN:VTIMEZONE
TZID:UTC
BEGIN:STANDARD
DTSTART:20250727T052943
TZOFFSETFROM:+0000
TZOFFSETTO:+0000
END:STANDARD
END:VTIMEZONE
BEGIN:VEVENT
UID:69e9ae47a1b3d
DTSTAMP:20260423T052943Z
SUMMARY:Afterwork
DTSTART:20260423T150000Z
DTEND:20260423T150000Z
END:VEVENT
END:VCALENDAR