BEGIN:VCALENDAR
VERSION:2.0
PRODID:spatie/icalendar-generator
BEGIN:VTIMEZONE
TZID:UTC
BEGIN:STANDARD
DTSTART:20250725T021105
TZOFFSETFROM:+0000
TZOFFSETTO:+0000
END:STANDARD
END:VTIMEZONE
BEGIN:VEVENT
UID:69e6dcb954c21
DTSTAMP:20260421T021105Z
SUMMARY:Starthilfe - digital dabei: Smartphone-Kurs für Android-Geräte
DTSTART:20260723T080000Z
DTEND:20260723T093000Z
END:VEVENT
END:VCALENDAR