BEGIN:VCALENDAR
VERSION:2.0
PRODID:spatie/icalendar-generator
BEGIN:VTIMEZONE
TZID:UTC
BEGIN:STANDARD
DTSTART:20250727T103926
TZOFFSETFROM:+0000
TZOFFSETTO:+0000
END:STANDARD
END:VTIMEZONE
BEGIN:VEVENT
UID:69e9f6de13cfd
DTSTAMP:20260423T103926Z
SUMMARY:Tief drinnen im Wald (DSE)
DTSTART:20260530T180000Z
DTEND:20260530T180000Z
END:VEVENT
END:VCALENDAR