BEGIN:VCALENDAR
VERSION:2.0
PRODID:spatie/icalendar-generator
BEGIN:VTIMEZONE
TZID:UTC
BEGIN:STANDARD
DTSTART:20250725T191925
TZOFFSETFROM:+0000
TZOFFSETTO:+0000
END:STANDARD
END:VTIMEZONE
BEGIN:VEVENT
UID:69e7cdbd0be73
DTSTAMP:20260421T191925Z
SUMMARY:Zuversicht. Ein Audiowalk zu STADT.WAND.KUNST - Gemeinsamer Spazier
 gang
DTSTART:20261029T180000Z
DTEND:20261029T180000Z
END:VEVENT
END:VCALENDAR