BEGIN:VCALENDAR
VERSION:2.0
PRODID:spatie/icalendar-generator
BEGIN:VTIMEZONE
TZID:UTC
BEGIN:STANDARD
DTSTART:20250725T021107
TZOFFSETFROM:+0000
TZOFFSETTO:+0000
END:STANDARD
END:VTIMEZONE
BEGIN:VEVENT
UID:69e6dcbb53ebe
DTSTAMP:20260421T021107Z
SUMMARY:GUTS - Feministische Horror-Collage von PANDORA
DTSTART:20260516T180000Z
DTEND:20260516T180000Z
END:VEVENT
END:VCALENDAR