BEGIN:VCALENDAR
VERSION:2.0
PRODID:spatie/icalendar-generator
BEGIN:VTIMEZONE
TZID:UTC
BEGIN:STANDARD
DTSTART:20250725T021106
TZOFFSETFROM:+0000
TZOFFSETTO:+0000
END:STANDARD
END:VTIMEZONE
BEGIN:VEVENT
UID:69e6dcba54479
DTSTAMP:20260421T021106Z
SUMMARY:Sounds of summer - mit Lola Demur
DTSTART:20260605T153000Z
DTEND:20260605T153000Z
END:VEVENT
END:VCALENDAR