BEGIN:VCALENDAR
VERSION:2.0
PRODID:spatie/icalendar-generator
BEGIN:VTIMEZONE
TZID:UTC
BEGIN:STANDARD
DTSTART:20250723T221252
TZOFFSETFROM:+0000
TZOFFSETTO:+0000
END:STANDARD
END:VTIMEZONE
BEGIN:VEVENT
UID:69e55364f00f5
DTSTAMP:20260419T221252Z
SUMMARY:Medienmittwoch Ü50-Spezial: Gesundheits- und Hitze-Apps
DTSTART:20260513T150000Z
DTEND:20260513T160000Z
END:VEVENT
END:VCALENDAR