BEGIN:VCALENDAR
VERSION:2.0
PRODID:spatie/icalendar-generator
BEGIN:VTIMEZONE
TZID:UTC
BEGIN:STANDARD
DTSTART:20250726T080354
TZOFFSETFROM:+0000
TZOFFSETTO:+0000
END:STANDARD
END:VTIMEZONE
BEGIN:VEVENT
UID:69e880ea03cc3
DTSTAMP:20260422T080354Z
SUMMARY:+++ ENTFÄLLT +++ Medienmittwoch: Entdecken Sie unsere digitalen An
 gebote
DTSTART:20260513T150000Z
DTEND:20260513T160000Z
END:VEVENT
END:VCALENDAR