BEGIN:VCALENDAR
VERSION:2.0
PRODID:spatie/icalendar-generator
BEGIN:VTIMEZONE
TZID:UTC
BEGIN:STANDARD
DTSTART:20250724T165235
TZOFFSETFROM:+0000
TZOFFSETTO:+0000
END:STANDARD
END:VTIMEZONE
BEGIN:VEVENT
UID:69e659d355c2c
DTSTAMP:20260420T165235Z
SUMMARY:Kleidertauschparty
DTSTART:20260509T083000Z
DTEND:20260509T120000Z
END:VEVENT
END:VCALENDAR