BEGIN:VCALENDAR
VERSION:2.0
PRODID:spatie/icalendar-generator
BEGIN:VTIMEZONE
TZID:UTC
BEGIN:STANDARD
DTSTART:20250725T021105
TZOFFSETFROM:+0000
TZOFFSETTO:+0000
END:STANDARD
END:VTIMEZONE
BEGIN:VEVENT
UID:69e6dcb9d4ded
DTSTAMP:20260421T021105Z
SUMMARY:Von Göttern\, Dorlis und anderen Phänomenen in frankokaribischen 
 Literaturen
DTSTART:20260423T170000Z
DTEND:20260423T170000Z
END:VEVENT
END:VCALENDAR